BEGIN:VCALENDAR
VERSION:2.0
PRODID:-//Kerzell.info - ECPv5.1.6//NONSGML v1.0//EN
CALSCALE:GREGORIAN
METHOD:PUBLISH
X-WR-CALNAME:Kerzell.info
X-ORIGINAL-URL:http://www.kerzell.info
X-WR-CALDESC:Veranstaltungen für Kerzell.info
BEGIN:VTIMEZONE
TZID:Europe/Helsinki
BEGIN:DAYLIGHT
TZOFFSETFROM:+0200
TZOFFSETTO:+0300
TZNAME:EEST
DTSTART:20220327T010000
END:DAYLIGHT
BEGIN:STANDARD
TZOFFSETFROM:+0300
TZOFFSETTO:+0200
TZNAME:EET
DTSTART:20221030T010000
END:STANDARD
END:VTIMEZONE
BEGIN:VEVENT
DTSTART;TZID=Europe/Helsinki:20221127T140000
DTEND;TZID=Europe/Helsinki:20221127T220000
DTSTAMP:20260424T122243
CREATED:20220430T100001Z
LAST-MODIFIED:20220430T100001Z
UID:1569-1669557600-1669586400@www.kerzell.info
SUMMARY:Seniorennachmittag
DESCRIPTION:
URL:http://www.kerzell.info/event/seniorennachmittag/
LOCATION:Bürgerhaus
END:VEVENT
END:VCALENDAR